BEGIN:VCALENDAR
VERSION:2.0
PRODID:spatie/icalendar-generator
DESCRIPTION:Évènements de Association Dante Alighieri
X-WR-CALDESC:Évènements de Association Dante Alighieri
REFRESH-INTERVAL;VALUE=DURATION:PT1440M
X-PUBLISHED-TTL:PT1440M
BEGIN:VTIMEZONE
TZID:Europe/Paris
BEGIN:STANDARD
DTSTART:20241027T030000Z
TZOFFSETFROM:+0200
TZOFFSETTO:+0100
END:STANDARD
BEGIN:DAYLIGHT
DTSTART:20250330T020000Z
TZOFFSETFROM:+0100
TZOFFSETTO:+0200
END:DAYLIGHT
END:VTIMEZONE
BEGIN:VTIMEZONE
TZID:UTC
BEGIN:STANDARD
DTSTART:20250723T195757Z
TZOFFSETFROM:+0000
TZOFFSETTO:+0000
END:STANDARD
END:VTIMEZONE
BEGIN:VEVENT
UID:24-23
DTSTAMP:20260419T195757Z
SUMMARY:Évènement Sans Titre
LOCATION:
ORGANIZER;CN=Alain Grand:MAILTO:alain.grand43@orange.fr
DTSTART;TZID=Europe/Paris:20250111T000000
DTEND;TZID=Europe/Paris:20250111T010000
X-ALT-DESC;FMTTYPE=TEXT/HTML:
CATEGORIES:Chant
URL;VALUE=URI:https://dantelepuy.fr/mc-events/evenement-sans-titre/
METHOD:PUBLISH
END:VEVENT
END:VCALENDAR